BEGIN:VCALENDAR
VERSION:2.0
PRODID:-//Squarespace Inc/Squarespace 6//v6//EN
BEGIN:VEVENT
UID:56b97d1059827eedd59a973b@squarespace.com
DTSTAMP:20200213T104637Z
DTSTART:20200214T220000Z
DTEND:20200215T040000Z
SUMMARY:Valentines Day Set Dinner Menu 
END:VEVENT
END:VCALENDAR
